BEGIN:VCALENDAR
VERSION:2.0
PRODID:-//Adamstown Business Group - ECPv6.14.2//NONSGML v1.0//EN
CALSCALE:GREGORIAN
METHOD:PUBLISH
X-WR-CALNAME:Adamstown Business Group
X-ORIGINAL-URL:https://adamstown.hyperstage.com.au
X-WR-CALDESC:Events for Adamstown Business Group
REFRESH-INTERVAL;VALUE=DURATION:PT1H
X-Robots-Tag:noindex
X-PUBLISHED-TTL:PT1H
BEGIN:VTIMEZONE
TZID:Australia/Sydney
BEGIN:STANDARD
TZOFFSETFROM:+1100
TZOFFSETTO:+1000
TZNAME:AEST
DTSTART:20230401T160000
END:STANDARD
BEGIN:DAYLIGHT
TZOFFSETFROM:+1000
TZOFFSETTO:+1100
TZNAME:AEDT
DTSTART:20230930T160000
END:DAYLIGHT
END:VTIMEZONE
BEGIN:VEVENT
DTSTART;TZID=Australia/Sydney:20231107T120000
DTEND;TZID=Australia/Sydney:20231107T120000
DTSTAMP:20260422T201533
CREATED:20231030T045358Z
LAST-MODIFIED:20231030T045358Z
UID:10000255-1699358400-1699358400@adamstown.hyperstage.com.au
SUMMARY:Melbourne Cup at Adamstown Bowlo
DESCRIPTION:For tickets https://www.trybooking.com/events/landing/1119522?fbclid=IwAR12yXmt2pGUuRUI8jv1D_xkpY3GeV0t2
URL:https://adamstown.hyperstage.com.au/event/melbourne-cup-at-adamstown-bowlo/
END:VEVENT
BEGIN:VEVENT
DTSTART;TZID=Australia/Sydney:20231107T120000
DTEND;TZID=Australia/Sydney:20231107T150000
DTSTAMP:20260422T201533
CREATED:20231030T045601Z
LAST-MODIFIED:20231030T045601Z
UID:10000256-1699358400-1699369200@adamstown.hyperstage.com.au
SUMMARY:Melbourne Cup at The Nags Head presented by Peterson House
DESCRIPTION:book via 49 525 743
URL:https://adamstown.hyperstage.com.au/event/melbourne-cup-at-the-nags-head-presented-by-peterson-house/
END:VEVENT
END:VCALENDAR