BEGIN:VCALENDAR
VERSION:2.0
PRODID:-//Adamstown Business Group - ECPv6.14.2//NONSGML v1.0//EN
CALSCALE:GREGORIAN
METHOD:PUBLISH
X-WR-CALNAME:Adamstown Business Group
X-ORIGINAL-URL:https://adamstown.hyperstage.com.au
X-WR-CALDESC:Events for Adamstown Business Group
REFRESH-INTERVAL;VALUE=DURATION:PT1H
X-Robots-Tag:noindex
X-PUBLISHED-TTL:PT1H
BEGIN:VTIMEZONE
TZID:Australia/Sydney
BEGIN:STANDARD
TZOFFSETFROM:+1100
TZOFFSETTO:+1000
TZNAME:AEST
DTSTART:20230401T160000
END:STANDARD
BEGIN:DAYLIGHT
TZOFFSETFROM:+1000
TZOFFSETTO:+1100
TZNAME:AEDT
DTSTART:20230930T160000
END:DAYLIGHT
END:VTIMEZONE
BEGIN:VEVENT
DTSTART;TZID=Australia/Sydney:20231110T170000
DTEND;TZID=Australia/Sydney:20231110T210000
DTSTAMP:20260422T201631
CREATED:20231024T003656Z
LAST-MODIFIED:20231024T004334Z
UID:10000003-1699635600-1699650000@adamstown.hyperstage.com.au
SUMMARY:Glow Bowls Tournament with HTRF
DESCRIPTION:
URL:https://adamstown.hyperstage.com.au/event/glow-bowls-tournament-with-htrf/
LOCATION:Adamstown Bowling Club\, 504 Glebe Road\, Adamstown\, NSW\, 2289\, Australia
END:VEVENT
BEGIN:VEVENT
DTSTART;TZID=Australia/Sydney:20231110T200000
DTEND;TZID=Australia/Sydney:20231110T200000
DTSTAMP:20260422T201631
CREATED:20231108T030328Z
LAST-MODIFIED:20231108T030328Z
UID:10001031-1699646400-1699646400@adamstown.hyperstage.com.au
SUMMARY:Glamstars (Glow Party)
DESCRIPTION:
URL:https://adamstown.hyperstage.com.au/event/glamstars-glow-party/
LOCATION:Adamstown Bowling Club\, 504 Glebe Road\, Adamstown\, NSW\, 2289\, Australia
END:VEVENT
BEGIN:VEVENT
DTSTART;TZID=Australia/Sydney:20231110T200000
DTEND;TZID=Australia/Sydney:20231110T230000
DTSTAMP:20260422T201631
CREATED:20231030T045753Z
LAST-MODIFIED:20231030T045753Z
UID:10000257-1699646400-1699657200@adamstown.hyperstage.com.au
SUMMARY:Kenny Jewell
DESCRIPTION:
URL:https://adamstown.hyperstage.com.au/event/kenny-jewell/
LOCATION:The Nags Head Hotel\, 272 Brunker Rd\, Adamstown\, NSW\, 2289
END:VEVENT
END:VCALENDAR