BEGIN:VCALENDAR
VERSION:2.0
PRODID:-//Adamstown Business Group - ECPv6.14.2//NONSGML v1.0//EN
CALSCALE:GREGORIAN
METHOD:PUBLISH
X-WR-CALNAME:Adamstown Business Group
X-ORIGINAL-URL:https://adamstown.hyperstage.com.au
X-WR-CALDESC:Events for Adamstown Business Group
REFRESH-INTERVAL;VALUE=DURATION:PT1H
X-Robots-Tag:noindex
X-PUBLISHED-TTL:PT1H
BEGIN:VTIMEZONE
TZID:Australia/Sydney
BEGIN:STANDARD
TZOFFSETFROM:+1100
TZOFFSETTO:+1000
TZNAME:AEST
DTSTART:20230401T160000
END:STANDARD
BEGIN:DAYLIGHT
TZOFFSETFROM:+1000
TZOFFSETTO:+1100
TZNAME:AEDT
DTSTART:20230930T160000
END:DAYLIGHT
END:VTIMEZONE
BEGIN:VEVENT
DTSTART;TZID=Australia/Sydney:20231112T070000
DTEND;TZID=Australia/Sydney:20231112T120000
DTSTAMP:20260422T201628
CREATED:20231024T005131Z
LAST-MODIFIED:20231030T045101Z
UID:10000247-1699772400-1699790400@adamstown.hyperstage.com.au
SUMMARY:Adamstown Lions Markets
DESCRIPTION:
URL:https://adamstown.hyperstage.com.au/event/adamstown-lions-markets/2023-11-12/
LOCATION:Adamstown Lions Markets\, Cnr Glebe & Brunker Rds\, Adamstown\, NSW\, 2289
END:VEVENT
BEGIN:VEVENT
DTSTART;TZID=Australia/Sydney:20231112T140000
DTEND;TZID=Australia/Sydney:20231112T140000
DTSTAMP:20260422T201628
CREATED:20231106T225639Z
LAST-MODIFIED:20231106T225639Z
UID:10001030-1699797600-1699797600@adamstown.hyperstage.com.au
SUMMARY:Agatha Christie's Murder in the Studio
DESCRIPTION:Brunker Community Theatre \nBookings www.trybooking.com/CHVXM or 0413 495890
URL:https://adamstown.hyperstage.com.au/event/agatha-christies-murder-in-the-studio-9/
LOCATION:Adamstown Uniting Church\, 228 Brunker Rd\, Adamstown\, NSW\, 2289\, Australia
END:VEVENT
BEGIN:VEVENT
DTSTART;TZID=Australia/Sydney:20231112T193000
DTEND;TZID=Australia/Sydney:20231112T193000
DTSTAMP:20260422T201628
CREATED:20231106T225010Z
LAST-MODIFIED:20231106T225109Z
UID:10001023-1699817400-1699817400@adamstown.hyperstage.com.au
SUMMARY:Agatha Christie's Murder in the Studio
DESCRIPTION:Brunker Community Theatre \nBookings www.trybooking.com/CHVXM or 0413 495890
URL:https://adamstown.hyperstage.com.au/event/agatha-christies-murder-in-the-studio-5/
LOCATION:Adamstown Uniting Church\, 228 Brunker Rd\, Adamstown\, NSW\, 2289\, Australia
END:VEVENT
END:VCALENDAR