BEGIN:VCALENDAR
VERSION:2.0
PRODID:-//Adamstown Business Group - ECPv6.14.2//NONSGML v1.0//EN
CALSCALE:GREGORIAN
METHOD:PUBLISH
X-WR-CALNAME:Adamstown Business Group
X-ORIGINAL-URL:https://adamstown.hyperstage.com.au
X-WR-CALDESC:Events for Adamstown Business Group
REFRESH-INTERVAL;VALUE=DURATION:PT1H
X-Robots-Tag:noindex
X-PUBLISHED-TTL:PT1H
BEGIN:VTIMEZONE
TZID:Australia/Sydney
BEGIN:STANDARD
TZOFFSETFROM:+1100
TZOFFSETTO:+1000
TZNAME:AEST
DTSTART:20230401T160000
END:STANDARD
BEGIN:DAYLIGHT
TZOFFSETFROM:+1000
TZOFFSETTO:+1100
TZNAME:AEDT
DTSTART:20230930T160000
END:DAYLIGHT
END:VTIMEZONE
BEGIN:VEVENT
DTSTART;TZID=Australia/Sydney:20231116T190000
DTEND;TZID=Australia/Sydney:20231116T200000
DTSTAMP:20260422T201633
CREATED:20231030T053916Z
LAST-MODIFIED:20231030T053916Z
UID:10001016-1700161200-1700164800@adamstown.hyperstage.com.au
SUMMARY:Midnight Sun presented by Ektasis Ensemble
DESCRIPTION:Ticktes from https://events.humanitix.com/ekstasis-ensemble-presents-midnight-sun/tickets
URL:https://adamstown.hyperstage.com.au/event/midnight-sun-presented-by-ektasis-ensemble-2/
LOCATION:Adamstown Uniting Church\, 228 Brunker Rd\, Adamstown\, NSW\, 2289\, Australia
END:VEVENT
END:VCALENDAR