BEGIN:VCALENDAR
VERSION:2.0
PRODID:-//Adamstown Business Group - ECPv6.14.2//NONSGML v1.0//EN
CALSCALE:GREGORIAN
METHOD:PUBLISH
X-ORIGINAL-URL:https://adamstown.hyperstage.com.au
X-WR-CALDESC:Events for Adamstown Business Group
REFRESH-INTERVAL;VALUE=DURATION:PT1H
X-Robots-Tag:noindex
X-PUBLISHED-TTL:PT1H
BEGIN:VTIMEZONE
TZID:Australia/Sydney
BEGIN:STANDARD
TZOFFSETFROM:+1100
TZOFFSETTO:+1000
TZNAME:AEST
DTSTART:20230401T160000
END:STANDARD
BEGIN:DAYLIGHT
TZOFFSETFROM:+1000
TZOFFSETTO:+1100
TZNAME:AEDT
DTSTART:20230930T160000
END:DAYLIGHT
END:VTIMEZONE
BEGIN:VEVENT
DTSTART;TZID=Australia/Sydney:20231202T140000
DTEND;TZID=Australia/Sydney:20231202T163000
DTSTAMP:20260422T164352
CREATED:20231030T051246Z
LAST-MODIFIED:20231030T051246Z
UID:10001005-1701525600-1701534600@adamstown.hyperstage.com.au
SUMMARY:Hunter Women Sing Christmas
DESCRIPTION:For tickets https://www.trybooking.com/events/1130414/sessions/4212407/sections/2117251/tickets
URL:https://adamstown.hyperstage.com.au/event/hunter-women-sing-christmas/
LOCATION:Adamstown Uniting Church\, 228 Brunker Rd\, Adamstown\, NSW\, 2289\, Australia
END:VEVENT
BEGIN:VEVENT
DTSTART;TZID=Australia/Sydney:20231202T200000
DTEND;TZID=Australia/Sydney:20231202T200000
DTSTAMP:20260422T164352
CREATED:20231115T025916Z
LAST-MODIFIED:20231120T223837Z
UID:10001056-1701547200-1701547200@adamstown.hyperstage.com.au
SUMMARY:Jordan Hunt
DESCRIPTION:The Green Room FULLY BOOKED FOR TABLE RESERVATIONS
URL:https://adamstown.hyperstage.com.au/event/jordan-hunt/
LOCATION:Adamstown Bowling Club\, 504 Glebe Road\, Adamstown\, NSW\, 2289\, Australia
END:VEVENT
BEGIN:VEVENT
DTSTART;TZID=Australia/Sydney:20231202T200000
DTEND;TZID=Australia/Sydney:20231202T230000
DTSTAMP:20260422T164352
CREATED:20231030T051144Z
LAST-MODIFIED:20231030T051144Z
UID:10001004-1701547200-1701558000@adamstown.hyperstage.com.au
SUMMARY:Harrison Hoven
DESCRIPTION:
URL:https://adamstown.hyperstage.com.au/event/harrison-hoven/
LOCATION:The Nags Head Hotel\, 272 Brunker Rd\, Adamstown\, NSW\, 2289
END:VEVENT
END:VCALENDAR