BEGIN:VCALENDAR
VERSION:2.0
PRODID:-//Adamstown Business Group - ECPv6.14.2//NONSGML v1.0//EN
CALSCALE:GREGORIAN
METHOD:PUBLISH
X-ORIGINAL-URL:https://adamstown.hyperstage.com.au
X-WR-CALDESC:Events for Adamstown Business Group
REFRESH-INTERVAL;VALUE=DURATION:PT1H
X-Robots-Tag:noindex
X-PUBLISHED-TTL:PT1H
BEGIN:VTIMEZONE
TZID:Australia/Sydney
BEGIN:STANDARD
TZOFFSETFROM:+1100
TZOFFSETTO:+1000
TZNAME:AEST
DTSTART:20230401T160000
END:STANDARD
BEGIN:DAYLIGHT
TZOFFSETFROM:+1000
TZOFFSETTO:+1100
TZNAME:AEDT
DTSTART:20230930T160000
END:DAYLIGHT
END:VTIMEZONE
BEGIN:VEVENT
DTSTART;TZID=Australia/Sydney:20231203T070000
DTEND;TZID=Australia/Sydney:20231203T120000
DTSTAMP:20260422T175217
CREATED:20231024T005131Z
LAST-MODIFIED:20231030T045101Z
UID:10000250-1701586800-1701604800@adamstown.hyperstage.com.au
SUMMARY:Adamstown Lions Markets
DESCRIPTION:
URL:https://adamstown.hyperstage.com.au/event/adamstown-lions-markets/2023-12-03/
LOCATION:Adamstown Lions Markets\, Cnr Glebe & Brunker Rds\, Adamstown\, NSW\, 2289
END:VEVENT
BEGIN:VEVENT
DTSTART;TZID=Australia/Sydney:20231203T140000
DTEND;TZID=Australia/Sydney:20231203T140000
DTSTAMP:20260422T175217
CREATED:20231110T021747Z
LAST-MODIFIED:20231110T021747Z
UID:10001033-1701612000-1701612000@adamstown.hyperstage.com.au
SUMMARY:Opera Hunter - Favourite Moments
DESCRIPTION:Champayne on arrival & afternoon tea. \nIn the church auditorium. \nOPERA HUNTER GALA FAVOURITE MOMENTS – Sticky Tickets
URL:https://adamstown.hyperstage.com.au/event/opera-hunter-favourite-moments/
LOCATION:Adamstown Uniting Church\, 228 Brunker Rd\, Adamstown\, NSW\, 2289\, Australia
END:VEVENT
BEGIN:VEVENT
DTSTART;TZID=Australia/Sydney:20231203T140000
DTEND;TZID=Australia/Sydney:20231203T170000
DTSTAMP:20260422T175217
CREATED:20231113T022005Z
LAST-MODIFIED:20231113T022005Z
UID:10001041-1701612000-1701622800@adamstown.hyperstage.com.au
SUMMARY:Honey Duo
DESCRIPTION:Live music in the Beer Garden.
URL:https://adamstown.hyperstage.com.au/event/honey-duo/
LOCATION:Adamstown Bowling Club\, 504 Glebe Road\, Adamstown\, NSW\, 2289\, Australia
END:VEVENT
END:VCALENDAR