BEGIN:VCALENDAR
VERSION:2.0
PRODID:-//Adamstown Business Group - ECPv6.14.2//NONSGML v1.0//EN
CALSCALE:GREGORIAN
METHOD:PUBLISH
X-WR-CALNAME:Adamstown Business Group
X-ORIGINAL-URL:https://adamstown.hyperstage.com.au
X-WR-CALDESC:Events for Adamstown Business Group
REFRESH-INTERVAL;VALUE=DURATION:PT1H
X-Robots-Tag:noindex
X-PUBLISHED-TTL:PT1H
BEGIN:VTIMEZONE
TZID:Australia/Sydney
BEGIN:STANDARD
TZOFFSETFROM:+1100
TZOFFSETTO:+1000
TZNAME:AEST
DTSTART:20230401T160000
END:STANDARD
BEGIN:DAYLIGHT
TZOFFSETFROM:+1000
TZOFFSETTO:+1100
TZNAME:AEDT
DTSTART:20230930T160000
END:DAYLIGHT
END:VTIMEZONE
BEGIN:VEVENT
DTSTART;TZID=Australia/Sydney:20231205T183000
DTEND;TZID=Australia/Sydney:20231205T213000
DTSTAMP:20260422T175041
CREATED:20231030T051338Z
LAST-MODIFIED:20231115T031259Z
UID:10001006-1701801000-1701811800@adamstown.hyperstage.com.au
SUMMARY:Seinfeld Themed Trivia
DESCRIPTION:Booking is essential ph 49525743. \n“We will have themed dinner specials\, themed Cocktails and don’t forget it’s also $17 Schnitty Night!”
URL:https://adamstown.hyperstage.com.au/event/seinfeld-themed-trivia/
LOCATION:The Nags Head Hotel\, 272 Brunker Rd\, Adamstown\, NSW\, 2289
END:VEVENT
END:VCALENDAR