BEGIN:VCALENDAR
VERSION:2.0
PRODID:-//Adamstown Business Group - ECPv6.14.2//NONSGML v1.0//EN
CALSCALE:GREGORIAN
METHOD:PUBLISH
X-ORIGINAL-URL:https://adamstown.hyperstage.com.au
X-WR-CALDESC:Events for Adamstown Business Group
REFRESH-INTERVAL;VALUE=DURATION:PT1H
X-Robots-Tag:noindex
X-PUBLISHED-TTL:PT1H
BEGIN:VTIMEZONE
TZID:Australia/Sydney
BEGIN:STANDARD
TZOFFSETFROM:+1100
TZOFFSETTO:+1000
TZNAME:AEST
DTSTART:20230401T160000
END:STANDARD
BEGIN:DAYLIGHT
TZOFFSETFROM:+1000
TZOFFSETTO:+1100
TZNAME:AEDT
DTSTART:20230930T160000
END:DAYLIGHT
END:VTIMEZONE
BEGIN:VEVENT
DTSTART;TZID=Australia/Sydney:20231208T170000
DTEND;TZID=Australia/Sydney:20231208T200000
DTSTAMP:20260422T175344
CREATED:20231113T022445Z
LAST-MODIFIED:20231113T022445Z
UID:10001045-1702054800-1702065600@adamstown.hyperstage.com.au
SUMMARY:Georgie Winchester
DESCRIPTION:Live music in the Beer Garden.
URL:https://adamstown.hyperstage.com.au/event/georgie-winchester-2/
LOCATION:Adamstown Bowling Club\, 504 Glebe Road\, Adamstown\, NSW\, 2289\, Australia
END:VEVENT
BEGIN:VEVENT
DTSTART;TZID=Australia/Sydney:20231208T200000
DTEND;TZID=Australia/Sydney:20231208T200000
DTSTAMP:20260422T175344
CREATED:20231115T030013Z
LAST-MODIFIED:20231120T223734Z
UID:10001057-1702065600-1702065600@adamstown.hyperstage.com.au
SUMMARY:Autobahns
DESCRIPTION:The Green Room FULLY BOOKED FOR TABLE RESERVATIONS
URL:https://adamstown.hyperstage.com.au/event/autobahns/
LOCATION:Adamstown Bowling Club\, 504 Glebe Road\, Adamstown\, NSW\, 2289\, Australia
END:VEVENT
BEGIN:VEVENT
DTSTART;TZID=Australia/Sydney:20231208T200000
DTEND;TZID=Australia/Sydney:20231208T230000
DTSTAMP:20260422T175344
CREATED:20231030T051428Z
LAST-MODIFIED:20231030T051428Z
UID:10001007-1702065600-1702076400@adamstown.hyperstage.com.au
SUMMARY:Dr Zoom
DESCRIPTION:
URL:https://adamstown.hyperstage.com.au/event/dr-zoom-2/
LOCATION:The Nags Head Hotel\, 272 Brunker Rd\, Adamstown\, NSW\, 2289
END:VEVENT
END:VCALENDAR