BEGIN:VCALENDAR
VERSION:2.0
PRODID:-//Adamstown Business Group - ECPv6.14.2//NONSGML v1.0//EN
CALSCALE:GREGORIAN
METHOD:PUBLISH
X-WR-CALNAME:Adamstown Business Group
X-ORIGINAL-URL:https://adamstown.hyperstage.com.au
X-WR-CALDESC:Events for Adamstown Business Group
REFRESH-INTERVAL;VALUE=DURATION:PT1H
X-Robots-Tag:noindex
X-PUBLISHED-TTL:PT1H
BEGIN:VTIMEZONE
TZID:Australia/Sydney
BEGIN:STANDARD
TZOFFSETFROM:+1100
TZOFFSETTO:+1000
TZNAME:AEST
DTSTART:20230401T160000
END:STANDARD
BEGIN:DAYLIGHT
TZOFFSETFROM:+1000
TZOFFSETTO:+1100
TZNAME:AEDT
DTSTART:20230930T160000
END:DAYLIGHT
END:VTIMEZONE
BEGIN:VEVENT
DTSTART;TZID=Australia/Sydney:20231210T070000
DTEND;TZID=Australia/Sydney:20231210T120000
DTSTAMP:20260422T175040
CREATED:20231024T005131Z
LAST-MODIFIED:20231030T045101Z
UID:10000251-1702191600-1702209600@adamstown.hyperstage.com.au
SUMMARY:Adamstown Lions Markets
DESCRIPTION:
URL:https://adamstown.hyperstage.com.au/event/adamstown-lions-markets/2023-12-10/
LOCATION:Adamstown Lions Markets\, Cnr Glebe & Brunker Rds\, Adamstown\, NSW\, 2289
END:VEVENT
BEGIN:VEVENT
DTSTART;TZID=Australia/Sydney:20231210T140000
DTEND;TZID=Australia/Sydney:20231210T170000
DTSTAMP:20260422T175040
CREATED:20231113T022544Z
LAST-MODIFIED:20231113T022544Z
UID:10001046-1702216800-1702227600@adamstown.hyperstage.com.au
SUMMARY:Javier
DESCRIPTION:Live music in the Beer Garden.
URL:https://adamstown.hyperstage.com.au/event/javier-2/
LOCATION:Adamstown Bowling Club\, 504 Glebe Road\, Adamstown\, NSW\, 2289\, Australia
END:VEVENT
END:VCALENDAR