BEGIN:VCALENDAR
VERSION:2.0
PRODID:-//Adamstown Business Group - ECPv6.14.2//NONSGML v1.0//EN
CALSCALE:GREGORIAN
METHOD:PUBLISH
X-ORIGINAL-URL:https://adamstown.hyperstage.com.au
X-WR-CALDESC:Events for Adamstown Business Group
REFRESH-INTERVAL;VALUE=DURATION:PT1H
X-Robots-Tag:noindex
X-PUBLISHED-TTL:PT1H
BEGIN:VTIMEZONE
TZID:Australia/Sydney
BEGIN:STANDARD
TZOFFSETFROM:+1100
TZOFFSETTO:+1000
TZNAME:AEST
DTSTART:20230401T160000
END:STANDARD
BEGIN:DAYLIGHT
TZOFFSETFROM:+1000
TZOFFSETTO:+1100
TZNAME:AEDT
DTSTART:20230930T160000
END:DAYLIGHT
END:VTIMEZONE
BEGIN:VEVENT
DTSTART;TZID=Australia/Sydney:20231215T180000
DTEND;TZID=Australia/Sydney:20231215T190000
DTSTAMP:20260422T175213
CREATED:20231110T022552Z
LAST-MODIFIED:20231110T022552Z
UID:10001036-1702663200-1702666800@adamstown.hyperstage.com.au
SUMMARY:The Song Sisters in Concert
DESCRIPTION:In the church auditorium. \nThe Song Sisters present their final concert for 2023 Tickets\, Adamstown Uniting Church\, Adamstown | TryBooking Australia
URL:https://adamstown.hyperstage.com.au/event/the-song-sisters-in-concert/
LOCATION:Adamstown Uniting Church\, 228 Brunker Rd\, Adamstown\, NSW\, 2289\, Australia
END:VEVENT
BEGIN:VEVENT
DTSTART;TZID=Australia/Sydney:20231215T200000
DTEND;TZID=Australia/Sydney:20231215T200000
DTSTAMP:20260422T175213
CREATED:20231115T030122Z
LAST-MODIFIED:20231120T223643Z
UID:10001058-1702670400-1702670400@adamstown.hyperstage.com.au
SUMMARY:Catpiss + Midway
DESCRIPTION:The Green Room FULLY BOOKED FOR TABLE RESERVATIONS
URL:https://adamstown.hyperstage.com.au/event/catpiss-midway/
LOCATION:Adamstown Bowling Club\, 504 Glebe Road\, Adamstown\, NSW\, 2289\, Australia
END:VEVENT
BEGIN:VEVENT
DTSTART;TZID=Australia/Sydney:20231215T200000
DTEND;TZID=Australia/Sydney:20231215T230000
DTSTAMP:20260422T175213
CREATED:20231030T051600Z
LAST-MODIFIED:20231030T051600Z
UID:10001009-1702670400-1702681200@adamstown.hyperstage.com.au
SUMMARY:Greg Bryce
DESCRIPTION:
URL:https://adamstown.hyperstage.com.au/event/greg-bryce/
LOCATION:The Nags Head Hotel\, 272 Brunker Rd\, Adamstown\, NSW\, 2289
END:VEVENT
END:VCALENDAR