BEGIN:VCALENDAR
VERSION:2.0
PRODID:-//Adamstown Business Group - ECPv6.14.2//NONSGML v1.0//EN
CALSCALE:GREGORIAN
METHOD:PUBLISH
X-WR-CALNAME:Adamstown Business Group
X-ORIGINAL-URL:https://adamstown.hyperstage.com.au
X-WR-CALDESC:Events for Adamstown Business Group
REFRESH-INTERVAL;VALUE=DURATION:PT1H
X-Robots-Tag:noindex
X-PUBLISHED-TTL:PT1H
BEGIN:VTIMEZONE
TZID:Australia/Sydney
BEGIN:STANDARD
TZOFFSETFROM:+1100
TZOFFSETTO:+1000
TZNAME:AEST
DTSTART:20230401T160000
END:STANDARD
BEGIN:DAYLIGHT
TZOFFSETFROM:+1000
TZOFFSETTO:+1100
TZNAME:AEDT
DTSTART:20230930T160000
END:DAYLIGHT
END:VTIMEZONE
BEGIN:VEVENT
DTSTART;TZID=Australia/Sydney:20231217T070000
DTEND;TZID=Australia/Sydney:20231217T120000
DTSTAMP:20260422T175044
CREATED:20231024T005131Z
LAST-MODIFIED:20231030T045101Z
UID:10000252-1702796400-1702814400@adamstown.hyperstage.com.au
SUMMARY:Adamstown Lions Markets
DESCRIPTION:
URL:https://adamstown.hyperstage.com.au/event/adamstown-lions-markets/2023-12-17/
LOCATION:Adamstown Lions Markets\, Cnr Glebe & Brunker Rds\, Adamstown\, NSW\, 2289
END:VEVENT
BEGIN:VEVENT
DTSTART;TZID=Australia/Sydney:20231217T123000
DTEND;TZID=Australia/Sydney:20231217T123000
DTSTAMP:20260422T175044
CREATED:20231113T022333Z
LAST-MODIFIED:20231113T022333Z
UID:10001044-1702816200-1702816200@adamstown.hyperstage.com.au
SUMMARY:Mega Christmas Raffle
DESCRIPTION:Over 90 prizes.
URL:https://adamstown.hyperstage.com.au/event/mega-christmas-raffle/
LOCATION:Adamstown Bowling Club\, 504 Glebe Road\, Adamstown\, NSW\, 2289\, Australia
END:VEVENT
BEGIN:VEVENT
DTSTART;TZID=Australia/Sydney:20231217T140000
DTEND;TZID=Australia/Sydney:20231217T140000
DTSTAMP:20260422T175044
CREATED:20231110T022738Z
LAST-MODIFIED:20231110T022738Z
UID:10001037-1702821600-1702821600@adamstown.hyperstage.com.au
SUMMARY:CAROLFEST 2023 Get into Christmas
DESCRIPTION:In the church auditorium. \nAdmission FREE.
URL:https://adamstown.hyperstage.com.au/event/carolfest-2023-get-into-christmas/
LOCATION:Adamstown Uniting Church\, 228 Brunker Rd\, Adamstown\, NSW\, 2289\, Australia
END:VEVENT
BEGIN:VEVENT
DTSTART;TZID=Australia/Sydney:20231217T140000
DTEND;TZID=Australia/Sydney:20231217T170000
DTSTAMP:20260422T175044
CREATED:20231113T022919Z
LAST-MODIFIED:20231113T022919Z
UID:10001049-1702821600-1702832400@adamstown.hyperstage.com.au
SUMMARY:Sean Fitzgerald's East of Eden
DESCRIPTION:Live music in the Beer Garden.
URL:https://adamstown.hyperstage.com.au/event/sean-fitzgeralds-east-of-eden/
LOCATION:Adamstown Bowling Club\, 504 Glebe Road\, Adamstown\, NSW\, 2289\, Australia
END:VEVENT
BEGIN:VEVENT
DTSTART;TZID=Australia/Sydney:20231217T170000
DTEND;TZID=Australia/Sydney:20231217T200000
DTSTAMP:20260422T175044
CREATED:20231115T030327Z
LAST-MODIFIED:20231120T223543Z
UID:10001060-1702832400-1702843200@adamstown.hyperstage.com.au
SUMMARY:Shivoo - Final Show
DESCRIPTION:The Green Room
URL:https://adamstown.hyperstage.com.au/event/shivoo-final-show/
LOCATION:Adamstown Bowling Club\, 504 Glebe Road\, Adamstown\, NSW\, 2289\, Australia
END:VEVENT
END:VCALENDAR