BEGIN:VCALENDAR
VERSION:2.0
PRODID:-//Adamstown Business Group - ECPv6.14.2//NONSGML v1.0//EN
CALSCALE:GREGORIAN
METHOD:PUBLISH
X-ORIGINAL-URL:https://adamstown.hyperstage.com.au
X-WR-CALDESC:Events for Adamstown Business Group
REFRESH-INTERVAL;VALUE=DURATION:PT1H
X-Robots-Tag:noindex
X-PUBLISHED-TTL:PT1H
BEGIN:VTIMEZONE
TZID:Australia/Sydney
BEGIN:STANDARD
TZOFFSETFROM:+1100
TZOFFSETTO:+1000
TZNAME:AEST
DTSTART:20240406T160000
END:STANDARD
BEGIN:DAYLIGHT
TZOFFSETFROM:+1000
TZOFFSETTO:+1100
TZNAME:AEDT
DTSTART:20241005T160000
END:DAYLIGHT
END:VTIMEZONE
BEGIN:VEVENT
DTSTART;TZID=Australia/Sydney:20240206T190000
DTEND;TZID=Australia/Sydney:20240206T210000
DTSTAMP:20260422T141551
CREATED:20240119T230900Z
LAST-MODIFIED:20240119T230900Z
UID:10001086-1707246000-1707253200@adamstown.hyperstage.com.au
SUMMARY:HARRY POTTER MOVIE TRIVIA
DESCRIPTION:CALLING ALL HARRY POTTER MOVIE FANS \n🪄✨ Dive into the enchanting world of Harry Potter! Join us on February 6th\, 2024\, from 7pm for a magical evening of trivia. \nTest your wizarding knowledge\, discover hidden secrets\, and compete for fantastic prizes. Gather your fellow witches and wizards for an unforgettable night filled with spells\, potions\, and the thrill of the wizarding world. \nMugal-friendly Cocktails | $17 Chicken Schnitty \nBookings are ESSENTIAL | To book your table\, visit https://thenags.com.au/book-now or phone our friendly staff on: (02) 4952 5743 \nBrought to you by Quizmasters
URL:https://adamstown.hyperstage.com.au/event/harry-potter-movie-trivia/
LOCATION:The Nags Head Hotel\, 272 Brunker Rd\, Adamstown\, NSW\, 2289
END:VEVENT
END:VCALENDAR