BEGIN:VCALENDAR
VERSION:2.0
PRODID:-//Adamstown Business Group - ECPv6.14.2//NONSGML v1.0//EN
CALSCALE:GREGORIAN
METHOD:PUBLISH
X-ORIGINAL-URL:https://adamstown.hyperstage.com.au
X-WR-CALDESC:Events for Adamstown Business Group
REFRESH-INTERVAL;VALUE=DURATION:PT1H
X-Robots-Tag:noindex
X-PUBLISHED-TTL:PT1H
BEGIN:VTIMEZONE
TZID:Australia/Sydney
BEGIN:STANDARD
TZOFFSETFROM:+1100
TZOFFSETTO:+1000
TZNAME:AEST
DTSTART:20240406T160000
END:STANDARD
BEGIN:DAYLIGHT
TZOFFSETFROM:+1000
TZOFFSETTO:+1100
TZNAME:AEDT
DTSTART:20241005T160000
END:DAYLIGHT
END:VTIMEZONE
BEGIN:VEVENT
DTSTART;TZID=Australia/Sydney:20240420T180000
DTEND;TZID=Australia/Sydney:20240420T203000
DTSTAMP:20260422T091504
CREATED:20240223T053010Z
LAST-MODIFIED:20240404T013647Z
UID:10001371-1713636000-1713645000@adamstown.hyperstage.com.au
SUMMARY:OAXACA FIESTA: Mexican Street Food & Cocktails
DESCRIPTION:Inspired by the city of OAXACA (pronounced wuh · haa ·kuh): the land of flavour that packs a punch! \n\n\n\n\n\n\n\n\n\nOAXACA FIESTA celebrates the distinct style of Mexican cuisine through a variety of canapés and cocktails crafted by our Head Chef and Cocktail Connoisseurs! \n\n\nCOME FOR THE CANAPÉS & COCKTAILS\, stay for the atmosphere! Live music kicks off in our front bar from 8 pm. \n\n\nINCLUSIONS\, Attendees of OAXACA FIESTA will enjoy five canapés of Mexican street food paired with a selection of four delicious cocktails to indulge in!
URL:https://adamstown.hyperstage.com.au/event/oaxaca/
LOCATION:The Nags Head Hotel\, 272 Brunker Rd\, Adamstown\, NSW\, 2289
END:VEVENT
BEGIN:VEVENT
DTSTART;TZID=Australia/Sydney:20240420T200000
DTEND;TZID=Australia/Sydney:20240420T230000
DTSTAMP:20260422T091504
CREATED:20240404T013244Z
LAST-MODIFIED:20240404T013244Z
UID:10001384-1713643200-1713654000@adamstown.hyperstage.com.au
SUMMARY:Jessie Vee
DESCRIPTION:DRINK SPECIALS \n\n\n$5 Glass of Bubbles from 4pm – 7pm \n\n\n$7 Glass of Prosecco from 4pm – 7pm \n\n\n$12 Happy Hour Cocktails from 4pm – 7pm \n\n\n$7 Basic House Spirits from 7pm – 11pm
URL:https://adamstown.hyperstage.com.au/event/jessie-vee-2/
LOCATION:The Nags Head Hotel\, 272 Brunker Rd\, Adamstown\, NSW\, 2289
END:VEVENT
END:VCALENDAR