BEGIN:VCALENDAR
VERSION:2.0
PRODID:-//Adamstown Business Group - ECPv6.14.2//NONSGML v1.0//EN
CALSCALE:GREGORIAN
METHOD:PUBLISH
X-ORIGINAL-URL:https://adamstown.hyperstage.com.au
X-WR-CALDESC:Events for Adamstown Business Group
REFRESH-INTERVAL;VALUE=DURATION:PT1H
X-Robots-Tag:noindex
X-PUBLISHED-TTL:PT1H
BEGIN:VTIMEZONE
TZID:Australia/Sydney
BEGIN:STANDARD
TZOFFSETFROM:+1100
TZOFFSETTO:+1000
TZNAME:AEST
DTSTART:20240406T160000
END:STANDARD
BEGIN:DAYLIGHT
TZOFFSETFROM:+1000
TZOFFSETTO:+1100
TZNAME:AEDT
DTSTART:20241005T160000
END:DAYLIGHT
END:VTIMEZONE
BEGIN:VEVENT
DTSTART;TZID=Australia/Sydney:20240421T140000
DTEND;TZID=Australia/Sydney:20240421T140000
DTSTAMP:20260422T103429
CREATED:20240119T230224Z
LAST-MODIFIED:20240119T230224Z
UID:10001085-1713708000-1713708000@adamstown.hyperstage.com.au
SUMMARY:Singalong to the shows COLOUR MY WORLD
DESCRIPTION:Colour My World\nThe song titles will include all the colours of the rainbow and more. So\, put on your white sports coat with a pink carnation and your blue suede shoes. All words are displayed and Philip Sketchley keeps the singers in tune.\nTickets $15 at the door – proceeds going to good causes. A light afternoon tea is included.\nEnquiries 4943 5316
URL:https://adamstown.hyperstage.com.au/event/singalong-to-the-shows-colour-my-world/
LOCATION:Adamstown Uniting Church\, 228 Brunker Rd\, Adamstown\, NSW\, 2289\, Australia
END:VEVENT
END:VCALENDAR