BEGIN:VCALENDAR
VERSION:2.0
PRODID:-//Adamstown Business Group - ECPv6.14.2//NONSGML v1.0//EN
CALSCALE:GREGORIAN
METHOD:PUBLISH
X-WR-CALNAME:Adamstown Business Group
X-ORIGINAL-URL:https://adamstown.hyperstage.com.au
X-WR-CALDESC:Events for Adamstown Business Group
REFRESH-INTERVAL;VALUE=DURATION:PT1H
X-Robots-Tag:noindex
X-PUBLISHED-TTL:PT1H
BEGIN:VTIMEZONE
TZID:Australia/Sydney
BEGIN:STANDARD
TZOFFSETFROM:+1100
TZOFFSETTO:+1000
TZNAME:AEST
DTSTART:20240406T160000
END:STANDARD
BEGIN:DAYLIGHT
TZOFFSETFROM:+1000
TZOFFSETTO:+1100
TZNAME:AEDT
DTSTART:20241005T160000
END:DAYLIGHT
END:VTIMEZONE
BEGIN:VEVENT
DTSTART;TZID=Australia/Sydney:20240512T100000
DTEND;TZID=Australia/Sydney:20240512T210000
DTSTAMP:20260422T080158
CREATED:20240501T003957Z
LAST-MODIFIED:20240501T003957Z
UID:10001400-1715508000-1715547600@adamstown.hyperstage.com.au
SUMMARY:Mother’s Day
DESCRIPTION:Chefs specialities & goodies for Mum! Don’t miss out on an effortlessly fabulous Mother’s Day celebration! \nBookings recommended.
URL:https://adamstown.hyperstage.com.au/event/mothers-day/
LOCATION:The Nags Head Hotel\, 272 Brunker Rd\, Adamstown\, NSW\, 2289
END:VEVENT
BEGIN:VEVENT
DTSTART;TZID=Australia/Sydney:20240512T140000
DTEND;TZID=Australia/Sydney:20240512T163000
DTSTAMP:20260422T080158
CREATED:20240422T002702Z
LAST-MODIFIED:20240422T002710Z
UID:10001394-1715522400-1715531400@adamstown.hyperstage.com.au
SUMMARY:The Trail to Oregon
DESCRIPTION:The Trail To Oregon by StarKid Productions is probably the funniest and most historically accurate improvisational musical about the great American Migration to settle the new found state of Oregon.\nSet in the Wild West\, it follows an all American family who seek a better life in Oregon. They travel down\nthe trail but not everyone will make it… but that\, is for you to decide! \nFrom the names of the characters to who survives the Trail this show encourages our audiences to engage in every single way they choose to. The Trail is full of dangers\, from Bandit Kings to Dysentery from Lobsters to Horny Ox’s and we can’t travel down it without you! \nWe can’t wait for you to join us on The Trail!
URL:https://adamstown.hyperstage.com.au/event/the-trail-to-oregon-7/
LOCATION:Adamstown Uniting Church\, 228 Brunker Rd\, Adamstown\, NSW\, 2289\, Australia
END:VEVENT
BEGIN:VEVENT
DTSTART;TZID=Australia/Sydney:20240512T193000
DTEND;TZID=Australia/Sydney:20240512T230000
DTSTAMP:20260422T080158
CREATED:20240422T002736Z
LAST-MODIFIED:20240422T002736Z
UID:10001395-1715542200-1715554800@adamstown.hyperstage.com.au
SUMMARY:The Trail to Oregon
DESCRIPTION:The Trail To Oregon by StarKid Productions is probably the funniest and most historically accurate improvisational musical about the great American Migration to settle the new found state of Oregon.\nSet in the Wild West\, it follows an all American family who seek a better life in Oregon. They travel down\nthe trail but not everyone will make it… but that\, is for you to decide! \nFrom the names of the characters to who survives the Trail this show encourages our audiences to engage in every single way they choose to. The Trail is full of dangers\, from Bandit Kings to Dysentery from Lobsters to Horny Ox’s and we can’t travel down it without you! \nWe can’t wait for you to join us on The Trail!
URL:https://adamstown.hyperstage.com.au/event/the-trail-to-oregon-8/
LOCATION:Adamstown Uniting Church\, 228 Brunker Rd\, Adamstown\, NSW\, 2289\, Australia
END:VEVENT
END:VCALENDAR