BEGIN:VCALENDAR
VERSION:2.0
PRODID:-//Adamstown Business Group - ECPv6.14.2//NONSGML v1.0//EN
CALSCALE:GREGORIAN
METHOD:PUBLISH
X-WR-CALNAME:Adamstown Business Group
X-ORIGINAL-URL:https://adamstown.hyperstage.com.au
X-WR-CALDESC:Events for Adamstown Business Group
REFRESH-INTERVAL;VALUE=DURATION:PT1H
X-Robots-Tag:noindex
X-PUBLISHED-TTL:PT1H
BEGIN:VTIMEZONE
TZID:Australia/Sydney
BEGIN:STANDARD
TZOFFSETFROM:+1100
TZOFFSETTO:+1000
TZNAME:AEST
DTSTART:20240406T160000
END:STANDARD
BEGIN:DAYLIGHT
TZOFFSETFROM:+1000
TZOFFSETTO:+1100
TZNAME:AEDT
DTSTART:20241005T160000
END:DAYLIGHT
END:VTIMEZONE
BEGIN:VEVENT
DTSTART;TZID=Australia/Sydney:20240518T123000
DTEND;TZID=Australia/Sydney:20240518T143000
DTSTAMP:20260422T064936
CREATED:20240402T005645Z
LAST-MODIFIED:20240404T013740Z
UID:10001376-1716035400-1716042600@adamstown.hyperstage.com.au
SUMMARY:SEX & THE CITY: Cocktails\, canapés & trivia!
DESCRIPTION:And just like that\, it’s time to get the girls together for… SEX & THE CITY: Cocktails\, Canapés & Trivia! \n\n\n\n\n\n\n\nJoin us for four fabulous courses of Cocktails & Canapés at The Nags Head Hotel \nTickets: $85pp • Bookings essential!
URL:https://adamstown.hyperstage.com.au/event/sex-the-city-cocktails-canapes-trivia/
LOCATION:The Nags Head Hotel\, 272 Brunker Rd\, Adamstown\, NSW\, 2289
END:VEVENT
BEGIN:VEVENT
DTSTART;TZID=Australia/Sydney:20240518T200000
DTEND;TZID=Australia/Sydney:20240518T230000
DTSTAMP:20260422T064936
CREATED:20240501T004248Z
LAST-MODIFIED:20240501T004248Z
UID:10001402-1716062400-1716073200@adamstown.hyperstage.com.au
SUMMARY:Just Pete
DESCRIPTION:
URL:https://adamstown.hyperstage.com.au/event/just-pete-3/
LOCATION:The Nags Head Hotel\, 272 Brunker Rd\, Adamstown\, NSW\, 2289
END:VEVENT
END:VCALENDAR