BEGIN:VCALENDAR
VERSION:2.0
PRODID:-//Adamstown Business Group - ECPv6.14.2//NONSGML v1.0//EN
CALSCALE:GREGORIAN
METHOD:PUBLISH
X-ORIGINAL-URL:https://adamstown.hyperstage.com.au
X-WR-CALDESC:Events for Adamstown Business Group
REFRESH-INTERVAL;VALUE=DURATION:PT1H
X-Robots-Tag:noindex
X-PUBLISHED-TTL:PT1H
BEGIN:VTIMEZONE
TZID:Australia/Sydney
BEGIN:STANDARD
TZOFFSETFROM:+1100
TZOFFSETTO:+1000
TZNAME:AEST
DTSTART:20240406T160000
END:STANDARD
BEGIN:DAYLIGHT
TZOFFSETFROM:+1000
TZOFFSETTO:+1100
TZNAME:AEDT
DTSTART:20241005T160000
END:DAYLIGHT
END:VTIMEZONE
BEGIN:VEVENT
DTSTART;TZID=Australia/Sydney:20240702T190000
DTEND;TZID=Australia/Sydney:20240702T210000
DTSTAMP:20260422T042437
CREATED:20240616T223222Z
LAST-MODIFIED:20240616T223633Z
UID:10001414-1719946800-1719954000@adamstown.hyperstage.com.au
SUMMARY:The Big Bang Theory Trivia
DESCRIPTION:Get ready to geek out with us for a Big Bang Theory Trivia Night on July 2nd at 7pm! Are you a Leonard or a secret Sheldon? Bazinga your way to victory with top 3 contenders walking away with some sweet prizes. \nSee you there!
URL:https://adamstown.hyperstage.com.au/event/the-big-bang-theory-trivia/
LOCATION:The Nags Head Hotel\, 272 Brunker Rd\, Adamstown\, NSW\, 2289
END:VEVENT
END:VCALENDAR