BEGIN:VCALENDAR
VERSION:2.0
PRODID:-//Adamstown Business Group - ECPv6.14.2//NONSGML v1.0//EN
CALSCALE:GREGORIAN
METHOD:PUBLISH
X-ORIGINAL-URL:https://adamstown.hyperstage.com.au
X-WR-CALDESC:Events for Adamstown Business Group
REFRESH-INTERVAL;VALUE=DURATION:PT1H
X-Robots-Tag:noindex
X-PUBLISHED-TTL:PT1H
BEGIN:VTIMEZONE
TZID:Australia/Sydney
BEGIN:STANDARD
TZOFFSETFROM:+1100
TZOFFSETTO:+1000
TZNAME:AEST
DTSTART:20240406T160000
END:STANDARD
BEGIN:DAYLIGHT
TZOFFSETFROM:+1000
TZOFFSETTO:+1100
TZNAME:AEDT
DTSTART:20241005T160000
END:DAYLIGHT
END:VTIMEZONE
BEGIN:VEVENT
DTSTART;TZID=Australia/Sydney:20240705T170000
DTEND;TZID=Australia/Sydney:20240705T170000
DTSTAMP:20260422T053319
CREATED:20240617T001041Z
LAST-MODIFIED:20240617T001041Z
UID:10001453-1720198800-1720198800@adamstown.hyperstage.com.au
SUMMARY:Chloe and Alexine
DESCRIPTION:LIVE in The Rinks Stage 💃 Kicks off 5pm Make the most of your weekend and come down for some free live tunes at the Adamstown Bowlo 🎸 Chloe and Alexine will be playing live in The Rinks Stage from 5pm. Grab some mates and come and have some fun!
URL:https://adamstown.hyperstage.com.au/event/chloe-and-alexine/
LOCATION:Adamstown Bowling Club\, 504 Glebe Road\, Adamstown\, NSW\, 2289\, Australia
END:VEVENT
BEGIN:VEVENT
DTSTART;TZID=Australia/Sydney:20240705T200000
DTEND;TZID=Australia/Sydney:20240705T200000
DTSTAMP:20260422T053319
CREATED:20240617T001206Z
LAST-MODIFIED:20240617T001206Z
UID:10001454-1720209600-1720209600@adamstown.hyperstage.com.au
SUMMARY:Pleasants
DESCRIPTION:LIVE in The Locker Room 💃 Kicks off 8pm Make the most of your weekend and come down for some free live tunes at the Adamstown Bowlo 🎸 Pleasants will be playing live in The Locker Room from 8pm. With support from 1800 Mikey and Busted Head Racket! Grab some mates and come and have some fun!
URL:https://adamstown.hyperstage.com.au/event/pleasants/
LOCATION:Adamstown Bowling Club\, 504 Glebe Road\, Adamstown\, NSW\, 2289\, Australia
END:VEVENT
BEGIN:VEVENT
DTSTART;TZID=Australia/Sydney:20240705T200000
DTEND;TZID=Australia/Sydney:20240705T230000
DTSTAMP:20260422T053319
CREATED:20240616T223341Z
LAST-MODIFIED:20240616T223341Z
UID:10001415-1720209600-1720220400@adamstown.hyperstage.com.au
SUMMARY:Mark Wells
DESCRIPTION:
URL:https://adamstown.hyperstage.com.au/event/mark-wells-3/
LOCATION:The Nags Head Hotel\, 272 Brunker Rd\, Adamstown\, NSW\, 2289
END:VEVENT
END:VCALENDAR