BEGIN:VCALENDAR
VERSION:2.0
PRODID:-//Adamstown Business Group - ECPv6.14.2//NONSGML v1.0//EN
CALSCALE:GREGORIAN
METHOD:PUBLISH
X-ORIGINAL-URL:https://adamstown.hyperstage.com.au
X-WR-CALDESC:Events for Adamstown Business Group
REFRESH-INTERVAL;VALUE=DURATION:PT1H
X-Robots-Tag:noindex
X-PUBLISHED-TTL:PT1H
BEGIN:VTIMEZONE
TZID:Australia/Sydney
BEGIN:STANDARD
TZOFFSETFROM:+1100
TZOFFSETTO:+1000
TZNAME:AEST
DTSTART:20240406T160000
END:STANDARD
BEGIN:DAYLIGHT
TZOFFSETFROM:+1000
TZOFFSETTO:+1100
TZNAME:AEDT
DTSTART:20241005T160000
END:DAYLIGHT
END:VTIMEZONE
BEGIN:VEVENT
DTSTART;TZID=Australia/Sydney:20240713T200000
DTEND;TZID=Australia/Sydney:20240713T200000
DTSTAMP:20260422T103318
CREATED:20240617T001952Z
LAST-MODIFIED:20240617T001952Z
UID:10001459-1720900800-1720900800@adamstown.hyperstage.com.au
SUMMARY:Oneira
DESCRIPTION:LIVE in The Locker Room 💃 Kicks off 8pm Make the most of your weekend and come down for some free live tunes at the Adamstown Bowlo 🎸 Oneira will be playing live in The Locker Room from 8pm. With support from Midway and 1251! Grab some mates and come and have some fun!
URL:https://adamstown.hyperstage.com.au/event/oneira/
LOCATION:Adamstown Bowling Club\, 504 Glebe Road\, Adamstown\, NSW\, 2289\, Australia
END:VEVENT
BEGIN:VEVENT
DTSTART;TZID=Australia/Sydney:20240713T200000
DTEND;TZID=Australia/Sydney:20240713T230000
DTSTAMP:20260422T103318
CREATED:20240616T223942Z
LAST-MODIFIED:20240616T223942Z
UID:10001418-1720900800-1720911600@adamstown.hyperstage.com.au
SUMMARY:Aaron Leonard
DESCRIPTION:
URL:https://adamstown.hyperstage.com.au/event/aaron-leonard-3/
LOCATION:The Nags Head Hotel\, 272 Brunker Rd\, Adamstown\, NSW\, 2289
END:VEVENT
END:VCALENDAR