BEGIN:VCALENDAR
VERSION:2.0
PRODID:-//Adamstown Business Group - ECPv6.14.2//NONSGML v1.0//EN
CALSCALE:GREGORIAN
METHOD:PUBLISH
X-ORIGINAL-URL:https://adamstown.hyperstage.com.au
X-WR-CALDESC:Events for Adamstown Business Group
REFRESH-INTERVAL;VALUE=DURATION:PT1H
X-Robots-Tag:noindex
X-PUBLISHED-TTL:PT1H
BEGIN:VTIMEZONE
TZID:Australia/Sydney
BEGIN:STANDARD
TZOFFSETFROM:+1100
TZOFFSETTO:+1000
TZNAME:AEST
DTSTART:20240406T160000
END:STANDARD
BEGIN:DAYLIGHT
TZOFFSETFROM:+1000
TZOFFSETTO:+1100
TZNAME:AEDT
DTSTART:20241005T160000
END:DAYLIGHT
END:VTIMEZONE
BEGIN:VEVENT
DTSTART;TZID=Australia/Sydney:20240719T063000
DTEND;TZID=Australia/Sydney:20240719T193000
DTSTAMP:20260422T053319
CREATED:20240523T004114Z
LAST-MODIFIED:20240523T004114Z
UID:10001409-1721370600-1721417400@adamstown.hyperstage.com.au
SUMMARY:CANDLELIGHT: Tribute to Taylor Swift
DESCRIPTION:Candlelight concerts bring the magic of a live\, multi-sensory musical experience to awe-inspiring locations like never seen before in Newcastle. Get your tickets now to discover the music of Taylor Swift at Adamstown Uniting Church under the gentle glow of candlelight.
URL:https://adamstown.hyperstage.com.au/event/candlelight-tribute-to-taylor-swift/
LOCATION:Adamstown Uniting Church\, 228 Brunker Rd\, Adamstown\, NSW\, 2289\, Australia
END:VEVENT
BEGIN:VEVENT
DTSTART;TZID=Australia/Sydney:20240719T200000
DTEND;TZID=Australia/Sydney:20240719T200000
DTSTAMP:20260422T053319
CREATED:20240617T002549Z
LAST-MODIFIED:20240617T002549Z
UID:10001462-1721419200-1721419200@adamstown.hyperstage.com.au
SUMMARY:Good Ramen
DESCRIPTION:LIVE in The Locker Room 💃 Kicks off 8pm Make the most of your weekend and come down for some free live tunes at the Adamstown Bowlo 🎸 Good Ramen will be playing live in The Locker Room from 8pm. Grab some mates and come and have some fun!
URL:https://adamstown.hyperstage.com.au/event/good-ramen/
LOCATION:Adamstown Bowling Club\, 504 Glebe Road\, Adamstown\, NSW\, 2289\, Australia
END:VEVENT
BEGIN:VEVENT
DTSTART;TZID=Australia/Sydney:20240719T200000
DTEND;TZID=Australia/Sydney:20240719T230000
DTSTAMP:20260422T053319
CREATED:20240616T224049Z
LAST-MODIFIED:20240616T224049Z
UID:10001419-1721419200-1721430000@adamstown.hyperstage.com.au
SUMMARY:Joe Moore
DESCRIPTION:
URL:https://adamstown.hyperstage.com.au/event/joe-moore/
LOCATION:The Nags Head Hotel\, 272 Brunker Rd\, Adamstown\, NSW\, 2289
END:VEVENT
BEGIN:VEVENT
DTSTART;TZID=Australia/Sydney:20240719T203000
DTEND;TZID=Australia/Sydney:20240719T213000
DTSTAMP:20260422T053319
CREATED:20240616T234329Z
LAST-MODIFIED:20240616T234329Z
UID:10001441-1721421000-1721424600@adamstown.hyperstage.com.au
SUMMARY:CANDLELIGHT: Tribute to Coldplay & Imagine Dragons
DESCRIPTION:Candlelight concerts bring the magic of a live\, multi-sensory musical experience to awe-inspiring locations like never seen before in Newcastle. Get your tickets now to discover the music of Coldplay and Imagine Dragons at Adamstown Uniting Church under the gentle glow of candlelight. \nBooking essential.
URL:https://adamstown.hyperstage.com.au/event/candlelight-tribute-to-coldplay-imagine-dragons-2/
LOCATION:Adamstown Uniting Church\, 228 Brunker Rd\, Adamstown\, NSW\, 2289\, Australia
END:VEVENT
END:VCALENDAR