BEGIN:VCALENDAR
VERSION:2.0
PRODID:-//Adamstown Business Group - ECPv6.14.2//NONSGML v1.0//EN
CALSCALE:GREGORIAN
METHOD:PUBLISH
X-WR-CALNAME:Adamstown Business Group
X-ORIGINAL-URL:https://adamstown.hyperstage.com.au
X-WR-CALDESC:Events for Adamstown Business Group
REFRESH-INTERVAL;VALUE=DURATION:PT1H
X-Robots-Tag:noindex
X-PUBLISHED-TTL:PT1H
BEGIN:VTIMEZONE
TZID:Australia/Sydney
BEGIN:STANDARD
TZOFFSETFROM:+1100
TZOFFSETTO:+1000
TZNAME:AEST
DTSTART:20240406T160000
END:STANDARD
BEGIN:DAYLIGHT
TZOFFSETFROM:+1000
TZOFFSETTO:+1100
TZNAME:AEDT
DTSTART:20241005T160000
END:DAYLIGHT
END:VTIMEZONE
BEGIN:VEVENT
DTSTART;TZID=Australia/Sydney:20240816T170000
DTEND;TZID=Australia/Sydney:20240816T170000
DTSTAMP:20260422T042332
CREATED:20240801T023720Z
LAST-MODIFIED:20240801T023720Z
UID:10001487-1723827600-1723827600@adamstown.hyperstage.com.au
SUMMARY:Sam Nicholls
DESCRIPTION:LIVE in The Rinks Stage 💃 Kicks off 5pm Make the most of your weekend and come down for some free live tunes at the Adamstown Bowlo 🎸 Sam Nicholls will be playing live in The Rinks Stage from 5pm. Grab some mates and come and have some fun!
URL:https://adamstown.hyperstage.com.au/event/sam-nicholls/
LOCATION:Adamstown Bowling Club\, 504 Glebe Road\, Adamstown\, NSW\, 2289\, Australia
END:VEVENT
BEGIN:VEVENT
DTSTART;TZID=Australia/Sydney:20240816T193000
DTEND;TZID=Australia/Sydney:20240816T193000
DTSTAMP:20260422T042332
CREATED:20240801T024647Z
LAST-MODIFIED:20240801T024647Z
UID:10001492-1723836600-1723836600@adamstown.hyperstage.com.au
SUMMARY:Gershwin and More
DESCRIPTION:https://adamstownuca.org.au/event/gershwin-and-more/
URL:https://adamstown.hyperstage.com.au/event/gershwin-and-more/
LOCATION:Adamstown Uniting Church\, 228 Brunker Rd\, Adamstown\, NSW\, 2289\, Australia
END:VEVENT
BEGIN:VEVENT
DTSTART;TZID=Australia/Sydney:20240816T200000
DTEND;TZID=Australia/Sydney:20240816T230000
DTSTAMP:20260422T042332
CREATED:20240801T020821Z
LAST-MODIFIED:20240801T020821Z
UID:10001467-1723838400-1723849200@adamstown.hyperstage.com.au
SUMMARY:James Paul
DESCRIPTION:
URL:https://adamstown.hyperstage.com.au/event/james-paul-3/
LOCATION:The Nags Head Hotel\, 272 Brunker Rd\, Adamstown\, NSW\, 2289
END:VEVENT
END:VCALENDAR