BEGIN:VCALENDAR
VERSION:2.0
PRODID:-//Adamstown Business Group - ECPv6.14.2//NONSGML v1.0//EN
CALSCALE:GREGORIAN
METHOD:PUBLISH
X-ORIGINAL-URL:https://adamstown.hyperstage.com.au
X-WR-CALDESC:Events for Adamstown Business Group
REFRESH-INTERVAL;VALUE=DURATION:PT1H
X-Robots-Tag:noindex
X-PUBLISHED-TTL:PT1H
BEGIN:VTIMEZONE
TZID:Australia/Sydney
BEGIN:STANDARD
TZOFFSETFROM:+1100
TZOFFSETTO:+1000
TZNAME:AEST
DTSTART:20240406T160000
END:STANDARD
BEGIN:DAYLIGHT
TZOFFSETFROM:+1000
TZOFFSETTO:+1100
TZNAME:AEDT
DTSTART:20241005T160000
END:DAYLIGHT
END:VTIMEZONE
BEGIN:VEVENT
DTSTART;TZID=Australia/Sydney:20240926T190000
DTEND;TZID=Australia/Sydney:20240926T190000
DTSTAMP:20260422T022618
CREATED:20240906T020138Z
LAST-MODIFIED:20240906T020138Z
UID:10001495-1727377200-1727377200@adamstown.hyperstage.com.au
SUMMARY:Avondale Jazz Ensemble
DESCRIPTION:David Pudney and his Avondale Jazz Ensemble: 10 Flavours \nOne of Australia’s finest jazz musicians\, David Pudney\, brings his Avondale Jazz Ensemble to the Dungeon for a one-night only performance. The concert also features vocal ensemble The Promise\, fresh from its gold-winning performances at the World Choir Games. Hear 10 songs from the ensembles’ wide reportorie\, including originals and others by artists such as Adrian Cunningham\, Yellowjackets and Michael Jackson in ballad\, gospel\, jazz fusion and Latin-tinged swing style. Presented by Avondale Conservatorium. \n \nPrior booking required.
URL:https://adamstown.hyperstage.com.au/event/avondale-jazz-ensemble/
LOCATION:Adamstown Uniting Church\, 228 Brunker Rd\, Adamstown\, NSW\, 2289\, Australia
END:VEVENT
END:VCALENDAR