BEGIN:VCALENDAR
VERSION:2.0
PRODID:-//Adamstown Business Group - ECPv6.14.2//NONSGML v1.0//EN
CALSCALE:GREGORIAN
METHOD:PUBLISH
X-WR-CALNAME:Adamstown Business Group
X-ORIGINAL-URL:https://adamstown.hyperstage.com.au
X-WR-CALDESC:Events for Adamstown Business Group
REFRESH-INTERVAL;VALUE=DURATION:PT1H
X-Robots-Tag:noindex
X-PUBLISHED-TTL:PT1H
BEGIN:VTIMEZONE
TZID:Australia/Sydney
BEGIN:STANDARD
TZOFFSETFROM:+1100
TZOFFSETTO:+1000
TZNAME:AEST
DTSTART:20240406T160000
END:STANDARD
BEGIN:DAYLIGHT
TZOFFSETFROM:+1000
TZOFFSETTO:+1100
TZNAME:AEDT
DTSTART:20241005T160000
END:DAYLIGHT
END:VTIMEZONE
BEGIN:VEVENT
DTSTART;TZID=Australia/Sydney:20240928T170000
DTEND;TZID=Australia/Sydney:20240928T170000
DTSTAMP:20260422T034514
CREATED:20240906T021835Z
LAST-MODIFIED:20240906T021835Z
UID:10001503-1727542800-1727542800@adamstown.hyperstage.com.au
SUMMARY:Phoenix & Manu
DESCRIPTION:LIVE in The Rinks Stage 💃 Kicks off 5pm Make the most of your weekend and come down for some free live tunes at the Adamstown Bowlo 🎸 Phoenix and Manu will be playing live in The Rinks Stage from 5pm. Grab some mates and come and have some fun!
URL:https://adamstown.hyperstage.com.au/event/phoenix-manu/
LOCATION:Adamstown Bowling Club\, 504 Glebe Road\, Adamstown\, NSW\, 2289\, Australia
END:VEVENT
BEGIN:VEVENT
DTSTART;TZID=Australia/Sydney:20240928T200000
DTEND;TZID=Australia/Sydney:20240928T200000
DTSTAMP:20260422T034514
CREATED:20240906T022213Z
LAST-MODIFIED:20240906T022213Z
UID:10001505-1727553600-1727553600@adamstown.hyperstage.com.au
SUMMARY:Cormac Grant
DESCRIPTION:LIVE in The Locker Room 💃 Kicks off 8pm Make the most of your weekend and come down for some free live tunes at the Adamstown Bowlo 🎸 Cormac Grant will be playing live in The Locker Room from 8pm. Grab some mates and come and have some fun!
URL:https://adamstown.hyperstage.com.au/event/cormac-grant/
LOCATION:Adamstown Bowling Club\, 504 Glebe Road\, Adamstown\, NSW\, 2289\, Australia
END:VEVENT
BEGIN:VEVENT
DTSTART;TZID=Australia/Sydney:20240928T200000
DTEND;TZID=Australia/Sydney:20240928T230000
DTSTAMP:20260422T034514
CREATED:20240801T022342Z
LAST-MODIFIED:20240801T022342Z
UID:10001480-1727553600-1727564400@adamstown.hyperstage.com.au
SUMMARY:Dean Kyrwood
DESCRIPTION:
URL:https://adamstown.hyperstage.com.au/event/dean-kyrwood-3/
LOCATION:The Nags Head Hotel\, 272 Brunker Rd\, Adamstown\, NSW\, 2289
END:VEVENT
END:VCALENDAR