BEGIN:VCALENDAR
VERSION:2.0
PRODID:-//Adamstown Business Group - ECPv6.14.2//NONSGML v1.0//EN
CALSCALE:GREGORIAN
METHOD:PUBLISH
X-ORIGINAL-URL:https://adamstown.hyperstage.com.au
X-WR-CALDESC:Events for Adamstown Business Group
REFRESH-INTERVAL;VALUE=DURATION:PT1H
X-Robots-Tag:noindex
X-PUBLISHED-TTL:PT1H
BEGIN:VTIMEZONE
TZID:Australia/Sydney
BEGIN:STANDARD
TZOFFSETFROM:+1100
TZOFFSETTO:+1000
TZNAME:AEST
DTSTART:20260404T160000
END:STANDARD
BEGIN:DAYLIGHT
TZOFFSETFROM:+1000
TZOFFSETTO:+1100
TZNAME:AEDT
DTSTART:20261003T160000
END:DAYLIGHT
END:VTIMEZONE
BEGIN:VEVENT
DTSTART;TZID=Australia/Sydney:20260207T140000
DTEND;TZID=Australia/Sydney:20260207T140000
DTSTAMP:20260420T200144
CREATED:20260204T000720Z
LAST-MODIFIED:20260204T000952Z
UID:10001519-1770472800-1770472800@adamstown.hyperstage.com.au
SUMMARY:Joseph Mallon
DESCRIPTION:Joseph playing from 2:30pm!
URL:https://adamstown.hyperstage.com.au/event/joseph-mallon/
LOCATION:Adamstown Bowling Club\, 504 Glebe Road\, Adamstown\, NSW\, 2289\, Australia
ATTACH;FMTTYPE=image/jpeg:https://adamstown.hyperstage.com.au/wp-content/uploads/2026/02/JosephMallon.jpg
END:VEVENT
BEGIN:VEVENT
DTSTART;TZID=Australia/Sydney:20260207T180000
DTEND;TZID=Australia/Sydney:20260207T210000
DTSTAMP:20260420T200144
CREATED:20260204T000927Z
LAST-MODIFIED:20260204T000927Z
UID:10001518-1770487200-1770498000@adamstown.hyperstage.com.au
SUMMARY:Javiers Music
DESCRIPTION:Javier plays 6-9pm Saturday!
URL:https://adamstown.hyperstage.com.au/event/javiers-music/
LOCATION:Adamstown Bowling Club\, 504 Glebe Road\, Adamstown\, NSW\, 2289\, Australia
ATTACH;FMTTYPE=image/jpeg:https://adamstown.hyperstage.com.au/wp-content/uploads/2026/02/JaviersMusic.jpg
END:VEVENT
BEGIN:VEVENT
DTSTART;TZID=Australia/Sydney:20260207T193000
DTEND;TZID=Australia/Sydney:20260207T223000
DTSTAMP:20260420T200144
CREATED:20260203T234756Z
LAST-MODIFIED:20260204T000054Z
UID:10001515-1770492600-1770503400@adamstown.hyperstage.com.au
SUMMARY:DJ Eli Carter
DESCRIPTION:DJ Eli Carter will be setting the vibes at The Nags Head from 7:30pm – 10:30pm.
URL:https://adamstown.hyperstage.com.au/event/dj-eli-carter/
LOCATION:The Nags Head Hotel\, 272 Brunker Rd\, Adamstown\, NSW\, 2289
ATTACH;FMTTYPE=image/jpeg:https://adamstown.hyperstage.com.au/wp-content/uploads/2026/02/DJ.jpg
END:VEVENT
END:VCALENDAR