BEGIN:VCALENDAR
VERSION:2.0
PRODID:-//Adamstown Business Group - ECPv6.14.2//NONSGML v1.0//EN
CALSCALE:GREGORIAN
METHOD:PUBLISH
X-ORIGINAL-URL:https://adamstown.hyperstage.com.au
X-WR-CALDESC:Events for Adamstown Business Group
REFRESH-INTERVAL;VALUE=DURATION:PT1H
X-Robots-Tag:noindex
X-PUBLISHED-TTL:PT1H
BEGIN:VTIMEZONE
TZID:Australia/Sydney
BEGIN:STANDARD
TZOFFSETFROM:+1100
TZOFFSETTO:+1000
TZNAME:AEST
DTSTART:20240406T160000
END:STANDARD
BEGIN:DAYLIGHT
TZOFFSETFROM:+1000
TZOFFSETTO:+1100
TZNAME:AEDT
DTSTART:20241005T160000
END:DAYLIGHT
END:VTIMEZONE
BEGIN:VEVENT
DTSTART;TZID=Australia/Sydney:20241012T000000
DTEND;TZID=Australia/Sydney:20241012T000000
DTSTAMP:20260421T220759
CREATED:20240906T022042Z
LAST-MODIFIED:20240906T022042Z
UID:10001504-1728691200-1728691200@adamstown.hyperstage.com.au
SUMMARY:Operation Karma Tour
DESCRIPTION:In celebration of their debut album\, Operation Karma is hitting the road for an Aussie tour this October and November! Hitting stages in NSW\, SA\, ACT and VIC\, the femme outfit from Naarm are putting on their biggest shows yet with the support of epic local artists. The band cannot wait to bring their sissy rock music to new audiences. So strap yourselves in for some hard-hitting riffs\, catchy tunes and a pulsating energy you can only experience at an Operation Karma show Tickets on sale now! https://events.humanitix.com/operation-karma-tour
URL:https://adamstown.hyperstage.com.au/event/operation-karma-tour/
LOCATION:Adamstown Bowling Club\, 504 Glebe Road\, Adamstown\, NSW\, 2289\, Australia
END:VEVENT
BEGIN:VEVENT
DTSTART;TZID=Australia/Sydney:20241026T200000
DTEND;TZID=Australia/Sydney:20241026T220000
DTSTAMP:20260421T220759
CREATED:20241028T005820Z
LAST-MODIFIED:20241028T005820Z
UID:10001506-1729972800-1729980000@adamstown.hyperstage.com.au
SUMMARY:The 19th Hole
DESCRIPTION:Making their DEBUT at The Nags Head Hotel\, join us to party with The 19th Hole: a local 6-piece band! \n \n 
URL:https://adamstown.hyperstage.com.au/event/the-19th-hole-2/
LOCATION:The Nags Head Hotel\, 272 Brunker Rd\, Adamstown\, NSW\, 2289
END:VEVENT
END:VCALENDAR