BEGIN:VCALENDAR
VERSION:2.0
PRODID:-//Adamstown Business Group - ECPv6.14.2//NONSGML v1.0//EN
CALSCALE:GREGORIAN
METHOD:PUBLISH
X-ORIGINAL-URL:https://adamstown.hyperstage.com.au
X-WR-CALDESC:Events for Adamstown Business Group
REFRESH-INTERVAL;VALUE=DURATION:PT1H
X-Robots-Tag:noindex
X-PUBLISHED-TTL:PT1H
BEGIN:VTIMEZONE
TZID:Australia/Sydney
BEGIN:STANDARD
TZOFFSETFROM:+1100
TZOFFSETTO:+1000
TZNAME:AEST
DTSTART:20230401T160000
END:STANDARD
BEGIN:DAYLIGHT
TZOFFSETFROM:+1000
TZOFFSETTO:+1100
TZNAME:AEDT
DTSTART:20230930T160000
END:DAYLIGHT
BEGIN:STANDARD
TZOFFSETFROM:+1100
TZOFFSETTO:+1000
TZNAME:AEST
DTSTART:20240406T160000
END:STANDARD
BEGIN:DAYLIGHT
TZOFFSETFROM:+1000
TZOFFSETTO:+1100
TZNAME:AEDT
DTSTART:20241005T160000
END:DAYLIGHT
END:VTIMEZONE
BEGIN:VEVENT
DTSTART;TZID=Australia/Sydney:20240406T083000
DTEND;TZID=Australia/Sydney:20240406T133000
DTSTAMP:20260421T002950
CREATED:20240404T014306Z
LAST-MODIFIED:20240404T014306Z
UID:10001385-1712392200-1712410200@adamstown.hyperstage.com.au
SUMMARY:GEM Market
DESCRIPTION:Gratitude\, Empathy\, Mindfulness (GEM) \nFundraiser for wellbeing initiatives. \nCOFFEE VAN/LIVE MUSIC
URL:https://adamstown.hyperstage.com.au/event/gem-market/
LOCATION:Kotara High School\, 7 Lexington Parade\, Adamstown\, NSW\, 2289\, Australia
END:VEVENT
BEGIN:VEVENT
DTSTART;TZID=Australia/Sydney:20231014T090000
DTEND;TZID=Australia/Sydney:20231024T010240
DTSTAMP:20260421T002950
CREATED:20231024T010240Z
LAST-MODIFIED:20231024T010240Z
UID:10000010-1697274000-1698109360@adamstown.hyperstage.com.au
SUMMARY:Hunter Record Fair
DESCRIPTION:
URL:https://adamstown.hyperstage.com.au/event/hunter-record-fair/
LOCATION:Kotara High School\, 7 Lexington Parade\, Adamstown\, NSW\, 2289\, Australia
END:VEVENT
END:VCALENDAR